BEGIN:VCALENDAR
VERSION:2.0
PRODID:-//Les Jambiens - ECPv6.8.3//NONSGML v1.0//EN
CALSCALE:GREGORIAN
METHOD:PUBLISH
X-ORIGINAL-URL:https://lesjambiens.be
X-WR-CALDESC:Évènements pour Les Jambiens
REFRESH-INTERVAL;VALUE=DURATION:PT1H
X-Robots-Tag:noindex
X-PUBLISHED-TTL:PT1H
BEGIN:VTIMEZONE
TZID:Europe/Paris
BEGIN:DAYLIGHT
TZOFFSETFROM:+0100
TZOFFSETTO:+0200
TZNAME:CEST
DTSTART:20260329T010000
END:DAYLIGHT
BEGIN:STANDARD
TZOFFSETFROM:+0200
TZOFFSETTO:+0100
TZNAME:CET
DTSTART:20261025T010000
END:STANDARD
END:VTIMEZONE
BEGIN:VEVENT
DTSTART;TZID=Europe/Paris:20260620T120000
DTEND;TZID=Europe/Paris:20260620T180000
DTSTAMP:20260422T142949
CREATED:20251202T234604Z
LAST-MODIFIED:20251202T235457Z
UID:1591-1781956800-1781978400@lesjambiens.be
SUMMARY:Barbecue
DESCRIPTION:Réservez la date … \n \nLes informations suivront …
URL:https://lesjambiens.be/index.php/event/barbecue/
LOCATION:Salle Jean Materne\, Allée du Parc Astrid\, 30\, JAMBES\, 5100\, Belgium
CATEGORIES:Réservé aux membres de l'Asbl
END:VEVENT
END:VCALENDAR