BEGIN:VCALENDAR
VERSION:2.0
PRODID:-//Les Jambiens - ECPv6.8.3//NONSGML v1.0//EN
CALSCALE:GREGORIAN
METHOD:PUBLISH
X-WR-CALNAME:Les Jambiens
X-ORIGINAL-URL:https://lesjambiens.be
X-WR-CALDESC:Évènements pour Les Jambiens
REFRESH-INTERVAL;VALUE=DURATION:PT1H
X-Robots-Tag:noindex
X-PUBLISHED-TTL:PT1H
BEGIN:VTIMEZONE
TZID:Europe/Paris
BEGIN:DAYLIGHT
TZOFFSETFROM:+0100
TZOFFSETTO:+0200
TZNAME:CEST
DTSTART:20250330T010000
END:DAYLIGHT
BEGIN:STANDARD
TZOFFSETFROM:+0200
TZOFFSETTO:+0100
TZNAME:CET
DTSTART:20251026T010000
END:STANDARD
END:VTIMEZONE
BEGIN:VEVENT
DTSTART;VALUE=DATE:20250320
DTEND;VALUE=DATE:20250321
DTSTAMP:20260423T063125
CREATED:20250303T230048Z
LAST-MODIFIED:20250303T230343Z
UID:1292-1742428800-1742515199@lesjambiens.be
SUMMARY:Voyage au Domaine Royal de Mariemont et visite de la Distillerie de Biercée
DESCRIPTION:
URL:https://lesjambiens.be/index.php/event/voyage-au-domaine-royal-de-mariemont-et-visite-de-la-distillerie-de-biercee/
CATEGORIES:Réservé aux membres de l'Asbl
END:VEVENT
END:VCALENDAR