BEGIN:VCALENDAR
VERSION:2.0
PRODID:-//Les Jambiens - ECPv6.8.3//NONSGML v1.0//EN
CALSCALE:GREGORIAN
METHOD:PUBLISH
X-WR-CALNAME:Les Jambiens
X-ORIGINAL-URL:https://lesjambiens.be
X-WR-CALDESC:Évènements pour Les Jambiens
REFRESH-INTERVAL;VALUE=DURATION:PT1H
X-Robots-Tag:noindex
X-PUBLISHED-TTL:PT1H
BEGIN:VTIMEZONE
TZID:Europe/Paris
BEGIN:DAYLIGHT
TZOFFSETFROM:+0100
TZOFFSETTO:+0200
TZNAME:CEST
DTSTART:20240331T010000
END:DAYLIGHT
BEGIN:STANDARD
TZOFFSETFROM:+0200
TZOFFSETTO:+0100
TZNAME:CET
DTSTART:20241027T010000
END:STANDARD
END:VTIMEZONE
BEGIN:VEVENT
DTSTART;TZID=Europe/Paris:20241119T100000
DTEND;TZID=Europe/Paris:20241119T160000
DTSTAMP:20260423T072309
CREATED:20241106T091959Z
LAST-MODIFIED:20241106T224719Z
UID:862-1732010400-1732032000@lesjambiens.be
SUMMARY:Exposition - Vente - Sections Couture et Ateliers créatifs
DESCRIPTION:  \nExposition – Vente – Couture et Ateliers créatifs
URL:https://lesjambiens.be/index.php/event/exposition-vente-couture-ateliers-creatifs/
LOCATION:Salle Jean Materne\, Allée du Parc Astrid\, 30\, JAMBES\, 5100\, Belgium
CATEGORIES:Réservé aux membres de l'Asbl
ATTACH;FMTTYPE=image/jpeg:https://lesjambiens.be/wp-content/uploads/2024/11/Couture-et-Ateliers-creatifs.jpg
END:VEVENT
END:VCALENDAR