BEGIN:VCALENDAR
VERSION:2.0
PRODID:-//Les Jambiens - ECPv6.8.3//NONSGML v1.0//EN
CALSCALE:GREGORIAN
METHOD:PUBLISH
X-ORIGINAL-URL:https://lesjambiens.be
X-WR-CALDESC:Évènements pour Les Jambiens
REFRESH-INTERVAL;VALUE=DURATION:PT1H
X-Robots-Tag:noindex
X-PUBLISHED-TTL:PT1H
BEGIN:VTIMEZONE
TZID:Europe/Paris
BEGIN:DAYLIGHT
TZOFFSETFROM:+0100
TZOFFSETTO:+0200
TZNAME:CEST
DTSTART:20250330T010000
END:DAYLIGHT
BEGIN:STANDARD
TZOFFSETFROM:+0200
TZOFFSETTO:+0100
TZNAME:CET
DTSTART:20251026T010000
END:STANDARD
END:VTIMEZONE
BEGIN:VEVENT
DTSTART;TZID=Europe/Paris:20250416T100000
DTEND;TZID=Europe/Paris:20250416T120000
DTSTAMP:20260423T020421
CREATED:20241106T232208Z
LAST-MODIFIED:20250317T185917Z
UID:900-1744797600-1744804800@lesjambiens.be
SUMMARY:Assemblée Générale statutaire suivie d'une réception apéritive
DESCRIPTION:                \n  \n  \n \n  \n  \n\n 
URL:https://lesjambiens.be/index.php/event/assemblee-generale-statutaire/
LOCATION:Salle Jean Materne\, Allée du Parc Astrid\, 30\, JAMBES\, 5100\, Belgium
CATEGORIES:Réservé aux membres de l'Asbl
END:VEVENT
BEGIN:VEVENT
DTSTART;VALUE=DATE:20250417
DTEND;VALUE=DATE:20250418
DTSTAMP:20260423T020421
CREATED:20250320T235132Z
LAST-MODIFIED:20250321T000935Z
UID:1334-1744848000-1744934399@lesjambiens.be
SUMMARY:Journée à Bruxelles
DESCRIPTION:
URL:https://lesjambiens.be/index.php/event/journee-a-bruxelles/
CATEGORIES:Réservé aux membres de l'Asbl
END:VEVENT
BEGIN:VEVENT
DTSTART;TZID=Europe/Paris:20250426T140000
DTEND;TZID=Europe/Paris:20250426T140000
DTSTAMP:20260423T020421
CREATED:20250417T175542Z
LAST-MODIFIED:20250417T175830Z
UID:1351-1745676000-1745676000@lesjambiens.be
SUMMARY:Goûter dansant
DESCRIPTION:
URL:https://lesjambiens.be/index.php/event/gouter-dansant/
LOCATION:Salle Jean Materne\, Allée du Parc Astrid\, 30\, JAMBES\, 5100\, Belgium
CATEGORIES:Réservé aux membres de l'Asbl
END:VEVENT
END:VCALENDAR