BEGIN:VCALENDAR
VERSION:2.0
PRODID:-//Les Jambiens - ECPv6.8.3//NONSGML v1.0//EN
CALSCALE:GREGORIAN
METHOD:PUBLISH
X-WR-CALNAME:Les Jambiens
X-ORIGINAL-URL:https://lesjambiens.be
X-WR-CALDESC:Évènements pour Les Jambiens
REFRESH-INTERVAL;VALUE=DURATION:PT1H
X-Robots-Tag:noindex
X-PUBLISHED-TTL:PT1H
BEGIN:VTIMEZONE
TZID:Europe/Paris
BEGIN:DAYLIGHT
TZOFFSETFROM:+0100
TZOFFSETTO:+0200
TZNAME:CEST
DTSTART:20240331T010000
END:DAYLIGHT
BEGIN:STANDARD
TZOFFSETFROM:+0200
TZOFFSETTO:+0100
TZNAME:CET
DTSTART:20241027T010000
END:STANDARD
END:VTIMEZONE
BEGIN:VEVENT
DTSTART;TZID=Europe/Paris:20241218T103000
DTEND;TZID=Europe/Paris:20241218T120000
DTSTAMP:20260423T135759
CREATED:20241106T225242Z
LAST-MODIFIED:20241124T175540Z
UID:894-1734517800-1734523200@lesjambiens.be
SUMMARY:Organe d'Administration
DESCRIPTION:
URL:https://lesjambiens.be/index.php/event/organe-dadministration/
LOCATION:Salle Jean Materne\, Allée du Parc Astrid\, 30\, JAMBES\, 5100\, Belgium
CATEGORIES:Réservé aux administrateurs
END:VEVENT
END:VCALENDAR