BEGIN:VCALENDAR
VERSION:2.0
PRODID:-//Les Jambiens - ECPv6.8.3//NONSGML v1.0//EN
CALSCALE:GREGORIAN
METHOD:PUBLISH
X-ORIGINAL-URL:https://lesjambiens.be
X-WR-CALDESC:Évènements pour Les Jambiens
REFRESH-INTERVAL;VALUE=DURATION:PT1H
X-Robots-Tag:noindex
X-PUBLISHED-TTL:PT1H
BEGIN:VTIMEZONE
TZID:Europe/Paris
BEGIN:DAYLIGHT
TZOFFSETFROM:+0100
TZOFFSETTO:+0200
TZNAME:CEST
DTSTART:20250330T010000
END:DAYLIGHT
BEGIN:STANDARD
TZOFFSETFROM:+0200
TZOFFSETTO:+0100
TZNAME:CET
DTSTART:20251026T010000
END:STANDARD
END:VTIMEZONE
BEGIN:VEVENT
DTSTART;VALUE=DATE:20251004
DTEND;VALUE=DATE:20251006
DTSTAMP:20260422T173100
CREATED:20250705T232615Z
LAST-MODIFIED:20250705T234349Z
UID:1400-1759536000-1759708799@lesjambiens.be
SUMMARY:Fil en folie - Évènement - Brocante autour du fil
DESCRIPTION:Passionnées de broderie\, couture\, tricot\, crochet\, patchwork …. \nVenez nous rendre visite lors de notre troisième édition de l’évènement  «  Fil en folie  » . \nDe bonnes affaires en perspectives ! \n \n 
URL:https://lesjambiens.be/index.php/event/fil-en-folie/
LOCATION:Salle « Clos de Velaine »\, Rue Victor Nonet\,4\, Jambes\, Namur\, 5100\, Belgique
CATEGORIES:Ouvert à tous
END:VEVENT
END:VCALENDAR