BEGIN:VCALENDAR
VERSION:2.0
PRODID:-//Les Jambiens - ECPv6.8.3//NONSGML v1.0//EN
CALSCALE:GREGORIAN
METHOD:PUBLISH
X-WR-CALNAME:Les Jambiens
X-ORIGINAL-URL:https://lesjambiens.be
X-WR-CALDESC:Évènements pour Les Jambiens
REFRESH-INTERVAL;VALUE=DURATION:PT1H
X-Robots-Tag:noindex
X-PUBLISHED-TTL:PT1H
BEGIN:VTIMEZONE
TZID:Europe/Paris
BEGIN:DAYLIGHT
TZOFFSETFROM:+0100
TZOFFSETTO:+0200
TZNAME:CEST
DTSTART:20240331T010000
END:DAYLIGHT
BEGIN:STANDARD
TZOFFSETFROM:+0200
TZOFFSETTO:+0100
TZNAME:CET
DTSTART:20241027T010000
END:STANDARD
END:VTIMEZONE
BEGIN:VEVENT
DTSTART;VALUE=DATE:20241019
DTEND;VALUE=DATE:20241021
DTSTAMP:20260425T001103
CREATED:20240629T184855Z
LAST-MODIFIED:20241129T102938Z
UID:216-1729296000-1729468799@lesjambiens.be
SUMMARY:"Fil en folie" - Evènement - brocante autour du fil
DESCRIPTION:Passionnées de broderie\, couture\, tricot\, crochet\, patchwork …. \nVenez nous rendre visite à notre deuxième édition de l’évènement  « Fil en folie« . \nDe bonnes affaires en perspectives !
URL:https://lesjambiens.be/index.php/event/fil-en-folie-evenement-brocante-autour-du-fil/
LOCATION:Salle « Clos de Velaine »\, Rue Victor Nonet\,4\, Jambes\, Namur\, 5100\, Belgique
CATEGORIES:Ouvert à tous
END:VEVENT
END:VCALENDAR